BEGIN:VCALENDAR
VERSION:2.0
PRODID:-//Tehaleh Resident Website - ECPv6.15.20//NONSGML v1.0//EN
CALSCALE:GREGORIAN
METHOD:PUBLISH
X-WR-CALNAME:Tehaleh Resident Website
X-ORIGINAL-URL:https://forms.hellotehaleh.com
X-WR-CALDESC:Events for Tehaleh Resident Website
REFRESH-INTERVAL;VALUE=DURATION:PT1H
X-Robots-Tag:noindex
X-PUBLISHED-TTL:PT1H
BEGIN:VTIMEZONE
TZID:America/Los_Angeles
BEGIN:DAYLIGHT
TZOFFSETFROM:-0800
TZOFFSETTO:-0700
TZNAME:PDT
DTSTART:20250309T100000
END:DAYLIGHT
BEGIN:STANDARD
TZOFFSETFROM:-0700
TZOFFSETTO:-0800
TZNAME:PST
DTSTART:20251102T090000
END:STANDARD
BEGIN:DAYLIGHT
TZOFFSETFROM:-0800
TZOFFSETTO:-0700
TZNAME:PDT
DTSTART:20260308T100000
END:DAYLIGHT
BEGIN:STANDARD
TZOFFSETFROM:-0700
TZOFFSETTO:-0800
TZNAME:PST
DTSTART:20261101T090000
END:STANDARD
BEGIN:DAYLIGHT
TZOFFSETFROM:-0800
TZOFFSETTO:-0700
TZNAME:PDT
DTSTART:20270314T100000
END:DAYLIGHT
BEGIN:STANDARD
TZOFFSETFROM:-0700
TZOFFSETTO:-0800
TZNAME:PST
DTSTART:20271107T090000
END:STANDARD
END:VTIMEZONE
BEGIN:VEVENT
DTSTART;TZID=America/Los_Angeles:20260421T170000
DTEND;TZID=America/Los_Angeles:20260421T190000
DTSTAMP:20260420T171952
CREATED:20260311T175845Z
LAST-MODIFIED:20260408T182218Z
UID:10000330-1776790800-1776798000@forms.hellotehaleh.com
SUMMARY:April Board Meeting
DESCRIPTION:Please join us at the Discovery Park Community Center for our monthly Board Meeting. This meeting offers an opportunity to listen to discussions between the Board of Directors and the Tehaleh Owners Association team\, including a recap of the previous month and updates on current and upcoming projects. \nBeginning in 2026\, the Call to Members portion of the meeting — when questions are taken from homeowners in attendance — will take place at the start of the meeting. While the Tehaleh Owners Association team remains available year-round by email at tehaleh@coherelife.com or by phone at 253-666-4515\, the Call to Members allows homeowners to address the board and community directly regarding agenda-related topics or other matters they would like the board to consider. We kindly ask that questions remain brief to ensure all homeowners have an opportunity to speak if they wish. \nIf you are unable to attend in person you can join virtually: \nJoin Zoom Meeting\nhttps://zoom.us/j/97210037028\nPlease note that Zoom attendees are unable to ask questions; homeowners who wish to participate in the Call to Members are encouraged to attend in person.
URL:https://forms.hellotehaleh.com/event/april-board-meeting/
LOCATION:Discovery Park Community Center
ORGANIZER;CN="Tehaleh Community Life":MAILTO:tehaleh@coherelife.com
END:VEVENT
BEGIN:VEVENT
DTSTART;TZID=America/Los_Angeles:20260427T160000
DTEND;TZID=America/Los_Angeles:20260427T180000
DTSTAMP:20260420T171952
CREATED:20260319T170402Z
LAST-MODIFIED:20260319T170402Z
UID:10000342-1777305600-1777312800@forms.hellotehaleh.com
SUMMARY:Club Meetup: Silver Sisters
DESCRIPTION:We are a group of senior women (50+) who don’t live in Trilogy or Verterra who want to meet new people in the neighborhood\, establishing new friendships while participating in social activities. Club leader information can be found here.
URL:https://forms.hellotehaleh.com/event/club-meetup-silver-sisters-3/
LOCATION:Discovery Park Community Center
END:VEVENT
END:VCALENDAR